BEGIN:VCALENDAR
VERSION:2.0
PRODID:-//Gargiulos Restaurant - ECPv6.15.18//NONSGML v1.0//EN
CALSCALE:GREGORIAN
METHOD:PUBLISH
X-WR-CALNAME:Gargiulos Restaurant
X-ORIGINAL-URL:https://gargiulos.com
X-WR-CALDESC:Events for Gargiulos Restaurant
REFRESH-INTERVAL;VALUE=DURATION:PT1H
X-Robots-Tag:noindex
X-PUBLISHED-TTL:PT1H
BEGIN:VTIMEZONE
TZID:America/New_York
BEGIN:DAYLIGHT
TZOFFSETFROM:-0500
TZOFFSETTO:-0400
TZNAME:EDT
DTSTART:20220313T070000
END:DAYLIGHT
BEGIN:STANDARD
TZOFFSETFROM:-0400
TZOFFSETTO:-0500
TZNAME:EST
DTSTART:20221106T060000
END:STANDARD
BEGIN:DAYLIGHT
TZOFFSETFROM:-0500
TZOFFSETTO:-0400
TZNAME:EDT
DTSTART:20230312T070000
END:DAYLIGHT
BEGIN:STANDARD
TZOFFSETFROM:-0400
TZOFFSETTO:-0500
TZNAME:EST
DTSTART:20231105T060000
END:STANDARD
BEGIN:DAYLIGHT
TZOFFSETFROM:-0500
TZOFFSETTO:-0400
TZNAME:EDT
DTSTART:20240310T070000
END:DAYLIGHT
BEGIN:STANDARD
TZOFFSETFROM:-0400
TZOFFSETTO:-0500
TZNAME:EST
DTSTART:20241103T060000
END:STANDARD
END:VTIMEZONE
BEGIN:VEVENT
DTSTART;TZID=America/New_York:20230803T170000
DTEND;TZID=America/New_York:20230803T220000
DTSTAMP:20260423T062945
CREATED:20230802T173510Z
LAST-MODIFIED:20230906T203717Z
UID:11836-1691082000-1691100000@gargiulos.com
SUMMARY:Pizza Garden
DESCRIPTION:Dine with us like you’re in Italy! Enjoy our classic Neapolitan style brick oven pizza in our outdoor garden Thursday’s & Friday’s this summer! \nView Menu
URL:https://gargiulos.com/calendar-events/pizza-garden/
LOCATION:Gargiulo’s\, 2911 West 15th St\, Brooklyn\, NY\, 11224\, United States
CATEGORIES:Gargiulo's Event,Holiday Event
ATTACH;FMTTYPE=image/jpeg:https://gargiulos.com/wp-content/uploads/2023/06/IMG_0099-JPEG-PAINT.jpg
END:VEVENT
BEGIN:VEVENT
DTSTART;TZID=America/New_York:20230803T170000
DTEND;TZID=America/New_York:20230803T220000
DTSTAMP:20260423T062945
CREATED:20230802T173510Z
LAST-MODIFIED:20230906T203717Z
UID:11836-1691082000-1691100000@gargiulos.com
SUMMARY:Pizza Garden
DESCRIPTION:Dine with us like you’re in Italy! Enjoy our classic Neapolitan style brick oven pizza in our outdoor garden Thursday’s & Friday’s this summer! \nView Menu
URL:https://gargiulos.com/calendar-events/pizza-garden/
LOCATION:Gargiulo’s\, 2911 West 15th St\, Brooklyn\, NY\, 11224\, United States
CATEGORIES:Gargiulo's Event,Holiday Event
ATTACH;FMTTYPE=image/jpeg:https://gargiulos.com/wp-content/uploads/2023/06/IMG_0099-JPEG-PAINT.jpg
END:VEVENT
BEGIN:VEVENT
DTSTART;VALUE=DATE:20230923
DTEND;VALUE=DATE:20230924
DTSTAMP:20260423T062945
CREATED:20230921T233247Z
LAST-MODIFIED:20230921T233247Z
UID:11858-1695427200-1695513599@gargiulos.com
SUMMARY:Closed for a Private Event
DESCRIPTION:Closed this Saturday\, but join us on Sunday!
URL:https://gargiulos.com/calendar-events/closed-for-a-private-event/
LOCATION:Gargiulo’s\, 2911 West 15th St\, Brooklyn\, NY\, 11224\, United States
END:VEVENT
END:VCALENDAR